BEGIN:VCALENDAR
VERSION:2.0
PRODID:-//Club de Campo Sojuela - Campo de Golf - - ECPv6.15.20//NONSGML v1.0//EN
CALSCALE:GREGORIAN
METHOD:PUBLISH
X-WR-CALNAME:Club de Campo Sojuela - Campo de Golf -
X-ORIGINAL-URL:https://www.clubdecamposojuela.com
X-WR-CALDESC:Eventos para Club de Campo Sojuela - Campo de Golf -
REFRESH-INTERVAL;VALUE=DURATION:PT1H
X-Robots-Tag:noindex
X-PUBLISHED-TTL:PT1H
BEGIN:VTIMEZONE
TZID:Europe/Madrid
BEGIN:DAYLIGHT
TZOFFSETFROM:+0100
TZOFFSETTO:+0200
TZNAME:CEST
DTSTART:20250330T010000
END:DAYLIGHT
BEGIN:STANDARD
TZOFFSETFROM:+0200
TZOFFSETTO:+0100
TZNAME:CET
DTSTART:20251026T010000
END:STANDARD
BEGIN:DAYLIGHT
TZOFFSETFROM:+0100
TZOFFSETTO:+0200
TZNAME:CEST
DTSTART:20260329T010000
END:DAYLIGHT
BEGIN:STANDARD
TZOFFSETFROM:+0200
TZOFFSETTO:+0100
TZNAME:CET
DTSTART:20261025T010000
END:STANDARD
BEGIN:DAYLIGHT
TZOFFSETFROM:+0100
TZOFFSETTO:+0200
TZNAME:CEST
DTSTART:20270328T010000
END:DAYLIGHT
BEGIN:STANDARD
TZOFFSETFROM:+0200
TZOFFSETTO:+0100
TZNAME:CET
DTSTART:20271031T010000
END:STANDARD
END:VTIMEZONE
BEGIN:VEVENT
DTSTART;TZID=Europe/Madrid:20260417T080000
DTEND;TZID=Europe/Madrid:20261130T170000
DTSTAMP:20260424T102420
CREATED:20260417T082321Z
LAST-MODIFIED:20260417T085548Z
UID:4128-1776412800-1796058000@www.clubdecamposojuela.com
SUMMARY:REGLAMENTO TORNEOS - LIGA AUTOABERÓN BMW 2026
DESCRIPTION:Aquí podéis acceder al Reglamento válido para todos los torneos de la Liga del Club de Campo Sojuela Autoberón – BMW del año 2026. \nReglamento Torneos Sojuela 2026
URL:https://www.clubdecamposojuela.com/calendario/reglamento-torneos-liga-autoaberon-bmw-2026/
CATEGORIES:Abierto
END:VEVENT
BEGIN:VEVENT
DTSTART;TZID=Europe/Madrid:20260417T080000
DTEND;TZID=Europe/Madrid:20261130T170000
DTSTAMP:20260424T102420
CREATED:20260417T090214Z
LAST-MODIFIED:20260417T090214Z
UID:4138-1776412800-1796058000@www.clubdecamposojuela.com
SUMMARY:CALENDARIO DE TORNEOS SOJUELA 2026
DESCRIPTION:Podéis consultar el Calendario de Torneos Abiertos del Club de Campo Sojuela para el año 2026. \n  \nCalendario Torneos Sojuela 2026
URL:https://www.clubdecamposojuela.com/calendario/calendario-de-torneos-sojuela-2026/
END:VEVENT
END:VCALENDAR