BEGIN:VCALENDAR
VERSION:2.0
PRODID:-//Club de Campo Sojuela - Campo de Golf - - ECPv6.15.20//NONSGML v1.0//EN
CALSCALE:GREGORIAN
METHOD:PUBLISH
X-WR-CALNAME:Club de Campo Sojuela - Campo de Golf -
X-ORIGINAL-URL:https://www.clubdecamposojuela.com
X-WR-CALDESC:Eventos para Club de Campo Sojuela - Campo de Golf -
REFRESH-INTERVAL;VALUE=DURATION:PT1H
X-Robots-Tag:noindex
X-PUBLISHED-TTL:PT1H
BEGIN:VTIMEZONE
TZID:Europe/Madrid
BEGIN:DAYLIGHT
TZOFFSETFROM:+0100
TZOFFSETTO:+0200
TZNAME:CEST
DTSTART:20230326T010000
END:DAYLIGHT
BEGIN:STANDARD
TZOFFSETFROM:+0200
TZOFFSETTO:+0100
TZNAME:CET
DTSTART:20231029T010000
END:STANDARD
BEGIN:DAYLIGHT
TZOFFSETFROM:+0100
TZOFFSETTO:+0200
TZNAME:CEST
DTSTART:20240331T010000
END:DAYLIGHT
BEGIN:STANDARD
TZOFFSETFROM:+0200
TZOFFSETTO:+0100
TZNAME:CET
DTSTART:20241027T010000
END:STANDARD
BEGIN:DAYLIGHT
TZOFFSETFROM:+0100
TZOFFSETTO:+0200
TZNAME:CEST
DTSTART:20250330T010000
END:DAYLIGHT
BEGIN:STANDARD
TZOFFSETFROM:+0200
TZOFFSETTO:+0100
TZNAME:CET
DTSTART:20251026T010000
END:STANDARD
END:VTIMEZONE
BEGIN:VEVENT
DTSTART;TZID=Europe/Madrid:20240217T093000
DTEND;TZID=Europe/Madrid:20240217T093000
DTSTAMP:20260425T183213
CREATED:20240126T092535Z
LAST-MODIFIED:20240212T140506Z
UID:3839-1708162200-1708162200@www.clubdecamposojuela.com
SUMMARY:11º Trofeo Antártida de Iain Tulloch
DESCRIPTION:11º Trofeo Antártida de Iain Tulloch. Modalidad Dobles Indistinto\, Foursome Stableford.\nSalidas será a tiro a las 9:30 h. Delicioso caldo\, bien caliente\, a mitad de recorrido. Al finalizar la prueba se entregará la Copa a los ganadores\, junto con el premio para los segundos y para los ganadores Scratch.\nInscripción: 25€ todos los participantes.\nApúntate ya llamando al 941446710 o escribiendo a caddiemaster@clubdecamposojuela.com. En Clapphouse tienes toda la información del evento.
URL:https://www.clubdecamposojuela.com/calendario/11o-trofeo-antartida-de-iain-tulloch/
LOCATION:Club Campo Sojuela\, C. Solcampo\, 9\,\, Sojuela\, La Rioja\, 26376\, España
CATEGORIES:Abierto
ATTACH;FMTTYPE=image/jpeg:https://www.clubdecamposojuela.com/wp-content/uploads/2024/01/Post-Trofeo-Antartida-2024-17-feb.jpg
END:VEVENT
BEGIN:VEVENT
DTSTART;TZID=Europe/Madrid:20240224T113000
DTEND;TZID=Europe/Madrid:20240224T140000
DTSTAMP:20260425T183213
CREATED:20240115T085302Z
LAST-MODIFIED:20240125T152130Z
UID:3701-1708774200-1708783200@www.clubdecamposojuela.com
SUMMARY:Torneo Femenino Parejas 9 Hoyos Scramble
DESCRIPTION:En el marco de las actividades programadas para el «Año de la Mujer Golfista» en el Club de Campo Sojuela\, con motivo de celebrarse aquí el Campeonato de España Femenino de 2ª\, 3ª y 4ª Categoría\, los días 19 y 20 de octubre\, este mes convocamos a todas las jugadoras de golf a participar en el Torneo Femenino Parejas 9 Hoyos\, modalidad Scramble. \nSalidas a tiro a las 11.30 h. con caldo y picoteo al finalizar. Se entregarán premios\, cortesía de Cobra Puma Golf y Nike Golf a las dos primeras parejas femeninas clasificadas y a la primera pareja masculina. \nPrecios: \nSocias: Su green fee diario. Afiliadas al Programa #VamosChicas: 15€. Resto: 25€
URL:https://www.clubdecamposojuela.com/calendario/torneo-femenino-parejas-9-hoyos-scramble/
LOCATION:La Rioja
CATEGORIES:Abierto
ATTACH;FMTTYPE=image/jpeg:https://www.clubdecamposojuela.com/wp-content/uploads/2024/01/post_torneo_femenino_24_febrero_2024-2.jpg
ORGANIZER;CN="Club Campo Sojuela":MAILTO:caddiemaster@clubdecamposojuela.com
END:VEVENT
BEGIN:VEVENT
DTSTART;TZID=Europe/Madrid:20240225T080000
DTEND;TZID=Europe/Madrid:20240225T170000
DTSTAMP:20260425T183213
CREATED:20240115T140204Z
LAST-MODIFIED:20240120T131723Z
UID:3740-1708848000-1708880400@www.clubdecamposojuela.com
SUMMARY:Liga Infantil del Norte 2024 Sojuela
DESCRIPTION:El domingo 25 de febrero ¡Comenzamos!\n\n\nA partir del lunes 22 de enero puedes inscribirte al primer torneo de la LIGA INFANTIL DEL NORTE 2024 SOJUELA\, abierta a todos los jugadores federados de cualquier club.\n\n\nRecuerda que la LIGA INFANTIL DEL NORTE 2024 SOJUELA se disputará de febrero a noviembre. 2 categorías: 9 hoyos de rojas y 18 hoyos de amarillas.\n\n\n\nPREMIOS:\n– JUEGO DE HIERROS CON FITTING PERSONALIZADO para el ganador Ranking en categoría Hándicap y el ganador Medal 18 hoyos.\n– 1 AÑO GRATIS EN LA ESCUELA DE COMPETICIÓN DEL CLUB DE CAMPO SOJUELA para el ganador Hándicap y el ganador Medal 9 hoyos.\n– 200€ EN UN VALE DE TIENDA PARA MATERIAL DEPORTIVO para los 2º clasificados en 18 hoyos y 9 hoyos.\n– 100€ EN UN VALE DE TIENDA PARA MATERIAL DEPORTIVO para los 3º clasificados en 18 hoyos y 9 hoyos.\n– 5 FICHAS VIA CLAPPHOUSE para los jugadores con menos puntos en cada prueba.\n\n\n\n· La final del Sojuela Open de noviembre valdrá doble puntuación · El 1º clasificado en la general scratch de 18 hoyos recibirá invitación a los WAGR de abril y julio · Los jugadores que compitan en\, al menos\, 5 pruebas conseguirán precios especiales para jugar en el Club de Campo Sojuela.\nPrecios: 6€ para 9 hoyos rojas y 12€ para 18 hoyos amarillas.\n\n\n\nINSCRIPCIONES:\n941 446 710\ndeportivo@clubdecamposojuela.com\nClapphouse
URL:https://www.clubdecamposojuela.com/calendario/liga-infantil-del-norte-2024-sojuela/
LOCATION:La Rioja
CATEGORIES:Abierto
ATTACH;FMTTYPE=image/jpeg:https://www.clubdecamposojuela.com/wp-content/uploads/2024/01/Liga-Infantil-Norte-2024-Febrero.jpg
ORGANIZER;CN="Club Campo Sojuela":MAILTO:caddiemaster@clubdecamposojuela.com
END:VEVENT
END:VCALENDAR