BEGIN:VCALENDAR
VERSION:2.0
PRODID:-//Club de Campo Sojuela - Campo de Golf - - ECPv6.15.20//NONSGML v1.0//EN
CALSCALE:GREGORIAN
METHOD:PUBLISH
X-ORIGINAL-URL:https://www.clubdecamposojuela.com
X-WR-CALDESC:Eventos para Club de Campo Sojuela - Campo de Golf -
REFRESH-INTERVAL;VALUE=DURATION:PT1H
X-Robots-Tag:noindex
X-PUBLISHED-TTL:PT1H
BEGIN:VTIMEZONE
TZID:Europe/Madrid
BEGIN:DAYLIGHT
TZOFFSETFROM:+0100
TZOFFSETTO:+0200
TZNAME:CEST
DTSTART:20230326T010000
END:DAYLIGHT
BEGIN:STANDARD
TZOFFSETFROM:+0200
TZOFFSETTO:+0100
TZNAME:CET
DTSTART:20231029T010000
END:STANDARD
BEGIN:DAYLIGHT
TZOFFSETFROM:+0100
TZOFFSETTO:+0200
TZNAME:CEST
DTSTART:20240331T010000
END:DAYLIGHT
BEGIN:STANDARD
TZOFFSETFROM:+0200
TZOFFSETTO:+0100
TZNAME:CET
DTSTART:20241027T010000
END:STANDARD
BEGIN:DAYLIGHT
TZOFFSETFROM:+0100
TZOFFSETTO:+0200
TZNAME:CEST
DTSTART:20250330T010000
END:DAYLIGHT
BEGIN:STANDARD
TZOFFSETFROM:+0200
TZOFFSETTO:+0100
TZNAME:CET
DTSTART:20251026T010000
END:STANDARD
END:VTIMEZONE
BEGIN:VEVENT
DTSTART;TZID=Europe/Madrid:20240504T080000
DTEND;TZID=Europe/Madrid:20240504T170000
DTSTAMP:20260425T140555
CREATED:20240115T144038Z
LAST-MODIFIED:20240429T074702Z
UID:3773-1714809600-1714842000@www.clubdecamposojuela.com
SUMMARY:Torneo Olympia Road. Liga Anual Club de Campo Sojuela
DESCRIPTION:La Liga 18º Aniversario del Club de Campo Sojuela Deltacinco – John Deere\, continúa el 4 de mayo con el Torneo Olympia Road\, modalidad Stableford Individual\, categoría única. \n\nSalidas a tiro a las 9.00 h.\nPicnic a mitad de recorrido.\nTrofeo para los 3 primeros clasificados.\nBola más cercana indistinta.\nDriver más largo masculino y femenino.\nEntrega de premios con picoteo.\n\nPrecios: Socios 25€ · Correspondencia 40€ · General 50€ \nInscripciones: 941446710 · deportivo@clubdecamposojuela.com · clapphouse \nPREMIOS A ENTREGARSE EN LA GRAN FINAL: 1º clasificado del ranking: 1 cuota anual individual Club de Campo Sojuela · 2º clasificado del ranking: 250€ para gasto en el pro shop del Club de Campo Sojuela · 3º clasificado del ranking: 100€ para gasto en el pro shop del Club de Campo Sojuela.
URL:https://www.clubdecamposojuela.com/calendario/torneo-olympia-road-liga-anual-club-de-campo-sojuela/
LOCATION:Club Campo Sojuela\, C. Solcampo\, 9\,\, Sojuela\, La Rioja\, 26376\, España
CATEGORIES:Abierto
ATTACH;FMTTYPE=image/jpeg:https://www.clubdecamposojuela.com/wp-content/uploads/2024/01/Liga-2024-Olympia-Road.jpg
ORGANIZER;CN="Olympia Road":MAILTO:info@olympiaroad.com
END:VEVENT
BEGIN:VEVENT
DTSTART;TZID=Europe/Madrid:20240511T100000
DTEND;TZID=Europe/Madrid:20240512T170000
DTSTAMP:20260425T140555
CREATED:20240115T084059Z
LAST-MODIFIED:20240418T104219Z
UID:3697-1715421600-1715533200@www.clubdecamposojuela.com
SUMMARY:Campeonato Absoluto Club de Campo Sojuela 2024
DESCRIPTION:LUGAR FECHA Y HORA \nClub de Campo Sojuela\, sábado 11 y domingo 12 de mayo de 2024.\nDía de entrenamiento: viernes 9 de mayo de 2024 (17€/no socio). Obligatorio reservar hora de salida para este día. \nParticipantes  \nCaballeros y damas\, con hándicap en activo y licencia en vigor expedida por la Real Federación Española de Golf (RFEG)\, con el límite de 120 jugadores (80 jugadores\, 40 jugadoras) por orden de hándicap exacto al cierre de las inscripciones. En caso de no completar el cupo de participantes en uno de los dos sexos\, se ampliarán los participantes admitidos del otro hasta completar el límite de 120 jugadores.\nLimitado el hándicap tanto en caballeros como en damas a 26\,4. \nInscripciones  \nLas inscripciones se realizarán a través de Clapphouse\, en el teléfono 941.44.67.10 o en el correo electrónico deportivo@clubdecamposojuela.com.\nEl cierre de las inscripciones será el 9 de mayo a las 13:00 horas. \nPrecios del torneo  \nSub-18 RL: 21€.\nAdulto socio del club organizador: 32€.\nAdulto RL y socio club riojano no organizador: 42€.\nAdulto RL no socio clubes riojanos y adulto no RL socio club riojano no organizador: 53€.\nResto: 63€. \nModalidad\, barras de salida y categorías  \n36 hoyos\, 18 cada día\, en modalidad individual Stroke Play Medal Play.\nCaballeros 1ª (0/4\,4): barras blancas.\nCaballeros 2ª (4\,5/11\,4): elección barras amarillas o barras blancas.\nDamas 1ª (0/4\,4) y 2ª (4\,5/11\,4): barras azules.\nCaballeros 3ª (11\,5/18\,4) y 4ª (18\,5/26\,4): barras amarillas.\nDamas 3ª (11\,5/18\,4) y 4ª (18\,5/26\,4): barras rojas. \nOrden de salida:  \n1ª jornada: por orden estricto de hándicap y divididos por sexo\, siendo la hora de inicio y el tee o tees de salida los que considere oportunos el Comité de la Prueba.\n2ª jornada: por orden inverso a la clasificación de la 1ª jornada y divididos por sexo\, siendo la hora de inicio y el tee o tees de salida los que considere oportunos el Comité de la Prueba. \nCondiciones de la competición\, reglas locales y desempates  \nSon aplicables las reglas locales anunciadas en el tablón del Club. \nEn caso de existir empate entre dos o más jugadores en la 1ª posición en la categoría absoluta\, se establece un desempate por play-off\, a disputar en el hoyo 1\, y en caso de persistir la igualada\, en el hoyo 9\, y así sucesivamente en estos dos hoyos hasta que se defina un ganador. En el resto de categorías\, se desempatará en favor del jugador/a con hándicap de juego más elevado\, y en el caso de persistir el empate\, se desempatará en favor del jugador/a con los mejores 18\, 27\, 30\, 33\, 34 y 35 últimos hoyos. \nLos jugadores sí podrán llevar caddie.  \nSí está permitido el uso de buggies y la utilización de dispositivos electrónicos solo para la medición de distancias. \nComité de la prueba  \nEstará formado por la Dirección del Club de Campo Sojuela y será el encargado de interpretar o regular cualquier supuesto no contemplado en este reglamento y se reserva el derecho de anular la prueba\, modificar la fórmula o el número de participantes previsto si existiesen causas que así lo aconsejasen. \nPremios y entrega de tarjetas  \nLa entrega de premios se realizará 30 minutos después de la entrega de la última tarjeta de cada categoría en la Casa Club.\nSe entregará trofeo acreditativo del Club de Campo Sojuela a:\nGanador Absoluto de Caballeros\, ganadora Absoluta de Damas\, ganador de 1ª categoría\, ganadora de 1ª categoría\, ganador de 2ª categoría\, ganadora de 2ª categoría\, ganador de 3ª categoría\, ganadora de 3ª categoría\, ganador de 4ª categoría y ganadora de 4ª categoría.  \nLos premios no son acumulables y prevalecerá el de mayor importancia.
URL:https://www.clubdecamposojuela.com/calendario/campeonato-absoluto-club-de-campo-sojuela-2024/
LOCATION:Club Campo Sojuela\, C. Solcampo\, 9\,\, Sojuela\, La Rioja\, 26376\, España
CATEGORIES:Federativo
ATTACH;FMTTYPE=image/png:https://www.clubdecamposojuela.com/wp-content/uploads/2024/01/POST-Campeonato-Absoluto-Mayo.png
ORGANIZER;CN="Federaci%C3%B3n Riojana de Golf":MAILTO:oficina@frgolf.es
END:VEVENT
BEGIN:VEVENT
DTSTART;TZID=Europe/Madrid:20240518T080000
DTEND;TZID=Europe/Madrid:20240518T170000
DTSTAMP:20260425T140555
CREATED:20240115T141324Z
LAST-MODIFIED:20240418T101408Z
UID:3750-1716019200-1716051600@www.clubdecamposojuela.com
SUMMARY:Liga Infantil del Norte 2024 Sojuela
DESCRIPTION:LIGA INFANTIL DEL NORTE 2024 SOJUELA\nSábado 18 de mayo. \n2 categorías: 9 hoyos de rojas y 18 hoyos de amarillas. \nPREMIOS:\n– JUEGO DE HIERROS CON FITTING PERSONALIZADO para el ganador Hándicap y el ganador Medal 18 hoyos.\n– 1 AÑO GRATIS EN LA ESCUELA DE COMPETICIÓN DEL CLUB DE CAMPO SOJUELA para el ganador Hándicap y el ganador Medal 9 hoyos.\n– 200€ EN UN VALE DE TIENDA PARA MATERIAL DEPORTIVO para los 2º clasificados en 18 hoyos y 9 hoyos.\n– 100€ EN UN VALE DE TIENDA PARA MATERIAL DEPORTIVO para los 3º clasificados en 18 hoyos y 9 hoyos.\n– 5 FICHAS VIA CLAPPHOUSE para los jugadores con menos puntos en cada prueba. \n· La final del Sojuela Open de noviembre valdrá doble puntuación · El 1º clasificado en la general scratch de 18 hoyos recibirá invitación a los WAGR de abril y julio · Los jugadores que compitan en\, al menos\, 5 pruebas conseguirán precios especiales para jugar en el Club de Campo Sojuela.\nPrecios: 6€ para 9 hoyos rojas y 12€ para 18 hoyos amarillas. \nINSCRIPCIONES:\n941 446 710\ndeportivo@clubdecamposojuela.com\nClapphouse
URL:https://www.clubdecamposojuela.com/calendario/liga-infantil-del-norte-sojuela-2/
LOCATION:Club Campo Sojuela\, C. Solcampo\, 9\,\, Sojuela\, La Rioja\, 26376\, España
CATEGORIES:Abierto
ATTACH;FMTTYPE=image/jpeg:https://www.clubdecamposojuela.com/wp-content/uploads/2024/01/Liga-Infantil-Norte-2024-Mayo-18.jpg
ORGANIZER;CN="Club Campo Sojuela":MAILTO:caddiemaster@clubdecamposojuela.com
END:VEVENT
BEGIN:VEVENT
DTSTART;TZID=Europe/Madrid:20240519T080000
DTEND;TZID=Europe/Madrid:20240519T170000
DTSTAMP:20260425T140555
CREATED:20240115T144312Z
LAST-MODIFIED:20240115T144623Z
UID:3776-1716105600-1716138000@www.clubdecamposojuela.com
SUMMARY:Campeonato Club de Campo Sojuela Sub21
DESCRIPTION:Campeonato Club de Campo Sojuela Sub21
URL:https://www.clubdecamposojuela.com/calendario/campeonato-club-de-campo-sojuela-sub21/
LOCATION:Club Campo Sojuela\, C. Solcampo\, 9\,\, Sojuela\, La Rioja\, 26376\, España
CATEGORIES:Federativo
ORGANIZER;CN="Club Campo Sojuela":MAILTO:caddiemaster@clubdecamposojuela.com
END:VEVENT
BEGIN:VEVENT
DTSTART;TZID=Europe/Madrid:20240525T091500
DTEND;TZID=Europe/Madrid:20240525T150000
DTSTAMP:20260425T140555
CREATED:20240115T102326Z
LAST-MODIFIED:20240424T132344Z
UID:3714-1716628500-1716649200@www.clubdecamposojuela.com
SUMMARY:Torneo Femenino por equipos
DESCRIPTION:En el marco de las actividades programadas para el «Año de la Mujer Golfista» en el Club de Campo Sojuela\, con motivo de celebrarse aquí el Campeonato de España Femenino de 2ª\, 3ª y 4ª Categoría\, los días 19 y 20 de octubre\, este mes convocamos a todas las jugadoras de golf a participar en este Torneo Femenino de 18 hoyos por equipos\, patrocinado por Vaduva. \nDurante este fin de semana ¡plantemos cara al cáncer!. El sábado 25\, mientras se disputa el Torneo Femenino de 18 hoyos por equipos\, tendremos\, a disposición de todos\, productos de la tienda solidaria de la Asociación Española Contra el Cáncer\, cuya compra contribuye a mejorar la vida de las personas con cáncer. Si lo prefieres\, podrás depositar un donativo en las huchas que encontrarás para tal fin en caddie máster y en el bar del Restaurante Abantos. \nEl domingo 26 se disputará\, el III Torneo de Golf Solidario Club de Campo Sojuela organizado por la Asociación Española Contra el Cáncer en La Rioja\, a beneficio de las acciones de prevención\, atención e investigación que realiza la Asociación en su búsqueda de conseguir el 70% de supervivencia en cáncer el 2030. Sus voluntarias estarán con nosotros para ofrecer información acerca de su labor\, de cómo colaborar y de las áreas de investigación contra esta enfermedad. \nConvoca ya a tu equipo para participar en el Torneo Femenino de 18 hoyos del sábado 25 de mayo: \n\nSalidas a tiro 09.15 h.\nPicnic a mitad de recorrido.\nPremio para los dos primeros equipos clasificados.\nMáximo 1 hombre por equipo.\nEntrega de premios con picoteo al finalizar.\n\nPrecios:\nSocias(os): 25€\nPrograma #VamosChicas: 25€\nCorrespondencia: 40€\nResto: 50€ \nInscripciones: 941 446 710 · deportivo@clubdecamposojuela.com
URL:https://www.clubdecamposojuela.com/calendario/torneo-femenino-por-equipos/
LOCATION:La Rioja
CATEGORIES:Abierto
ATTACH;FMTTYPE=image/jpeg:https://www.clubdecamposojuela.com/wp-content/uploads/2024/01/post_torneo_femenino_equipos_25_mayo_2024-3.jpg
ORGANIZER;CN="Club Campo Sojuela":MAILTO:caddiemaster@clubdecamposojuela.com
END:VEVENT
BEGIN:VEVENT
DTSTART;TZID=Europe/Madrid:20240526T080000
DTEND;TZID=Europe/Madrid:20240526T170000
DTSTAMP:20260425T140555
CREATED:20240115T145131Z
LAST-MODIFIED:20240115T145131Z
UID:3780-1716710400-1716742800@www.clubdecamposojuela.com
SUMMARY:Liga Anual Club de Campo Sojuela
DESCRIPTION:Liga Anual Club de Campo Sojuela
URL:https://www.clubdecamposojuela.com/calendario/liga-anual-club-de-campo-sojuela-2/
LOCATION:Club Campo Sojuela\, C. Solcampo\, 9\,\, Sojuela\, La Rioja\, 26376\, España
CATEGORIES:Abierto
ORGANIZER;CN="Club Campo Sojuela":MAILTO:caddiemaster@clubdecamposojuela.com
END:VEVENT
BEGIN:VEVENT
DTSTART;TZID=Europe/Madrid:20240530T080000
DTEND;TZID=Europe/Madrid:20240530T170000
DTSTAMP:20260425T140555
CREATED:20240115T144953Z
LAST-MODIFIED:20240115T144953Z
UID:3778-1717056000-1717088400@www.clubdecamposojuela.com
SUMMARY:Torneo de Golf Andbank
DESCRIPTION:Torneo de Golf Andbank
URL:https://www.clubdecamposojuela.com/calendario/torneo-de-golf-andbank/
LOCATION:Club Campo Sojuela\, C. Solcampo\, 9\,\, Sojuela\, La Rioja\, 26376\, España
CATEGORIES:Privado
ORGANIZER;CN="Club Campo Sojuela":MAILTO:caddiemaster@clubdecamposojuela.com
END:VEVENT
END:VCALENDAR