BEGIN:VCALENDAR
VERSION:2.0
PRODID:-//Club de Campo Sojuela - Campo de Golf - - ECPv6.15.20//NONSGML v1.0//EN
CALSCALE:GREGORIAN
METHOD:PUBLISH
X-WR-CALNAME:Club de Campo Sojuela - Campo de Golf -
X-ORIGINAL-URL:https://www.clubdecamposojuela.com
X-WR-CALDESC:Eventos para Club de Campo Sojuela - Campo de Golf -
REFRESH-INTERVAL;VALUE=DURATION:PT1H
X-Robots-Tag:noindex
X-PUBLISHED-TTL:PT1H
BEGIN:VTIMEZONE
TZID:Europe/Madrid
BEGIN:DAYLIGHT
TZOFFSETFROM:+0100
TZOFFSETTO:+0200
TZNAME:CEST
DTSTART:20230326T010000
END:DAYLIGHT
BEGIN:STANDARD
TZOFFSETFROM:+0200
TZOFFSETTO:+0100
TZNAME:CET
DTSTART:20231029T010000
END:STANDARD
BEGIN:DAYLIGHT
TZOFFSETFROM:+0100
TZOFFSETTO:+0200
TZNAME:CEST
DTSTART:20240331T010000
END:DAYLIGHT
BEGIN:STANDARD
TZOFFSETFROM:+0200
TZOFFSETTO:+0100
TZNAME:CET
DTSTART:20241027T010000
END:STANDARD
BEGIN:DAYLIGHT
TZOFFSETFROM:+0100
TZOFFSETTO:+0200
TZNAME:CEST
DTSTART:20250330T010000
END:DAYLIGHT
BEGIN:STANDARD
TZOFFSETFROM:+0200
TZOFFSETTO:+0100
TZNAME:CET
DTSTART:20251026T010000
END:STANDARD
END:VTIMEZONE
BEGIN:VEVENT
DTSTART;TZID=Europe/Madrid:20240602T080000
DTEND;TZID=Europe/Madrid:20240602T170000
DTSTAMP:20260425T122848
CREATED:20240115T150021Z
LAST-MODIFIED:20240115T150021Z
UID:3784-1717315200-1717347600@www.clubdecamposojuela.com
SUMMARY:Campeonato Club de Campo Sojuela Senior
DESCRIPTION:Campeonato Club de Campo Sojuela Senior
URL:https://www.clubdecamposojuela.com/calendario/campeonato-club-de-campo-sojuela-senior/
LOCATION:Club Campo Sojuela\, C. Solcampo\, 9\,\, Sojuela\, La Rioja\, 26376\, España
CATEGORIES:Federativo
ORGANIZER;CN="Federaci%C3%B3n Riojana de Golf":MAILTO:oficina@frgolf.es
END:VEVENT
BEGIN:VEVENT
DTSTART;TZID=Europe/Madrid:20240615T080000
DTEND;TZID=Europe/Madrid:20240615T170000
DTSTAMP:20260425T122848
CREATED:20240115T141624Z
LAST-MODIFIED:20240115T141624Z
UID:3753-1718438400-1718470800@www.clubdecamposojuela.com
SUMMARY:Liga Infantil del Norte 2024 Sojuela
DESCRIPTION:LIGA INFANTIL DEL NORTE 2024 SOJUELA\nSábado 15 de junio. \n2 categorías: 9 hoyos de rojas y 18 hoyos de amarillas. \nPREMIOS:\n– JUEGO DE HIERROS CON FITTING PERSONALIZADO para el ganador Hándicap y el ganador Medal 18 hoyos.\n– 1 AÑO GRATIS EN LA ESCUELA DE COMPETICIÓN DEL CLUB DE CAMPO SOJUELA para el ganador Hándicap y el ganador Medal 9 hoyos.\n– 200€ EN UN VALE DE TIENDA PARA MATERIAL DEPORTIVO para los 2º clasificados en 18 hoyos y 9 hoyos.\n– 100€ EN UN VALE DE TIENDA PARA MATERIAL DEPORTIVO para los 3º clasificados en 18 hoyos y 9 hoyos.\n– 5 FICHAS VIA CLAPPHOUSE para los jugadores con menos puntos en cada prueba. \n· La final del Sojuela Open de noviembre valdrá doble puntuación · El 1º clasificado en la general scratch de 18 hoyos recibirá invitación a los WAGR de abril y julio · Los jugadores que compitan en\, al menos\, 5 pruebas conseguirán precios especiales para jugar en el Club de Campo Sojuela.\nPrecios: 6€ para 9 hoyos rojas y 12€ para 18 hoyos amarillas. \nINSCRIPCIONES:\n941 446 710\ndeportivo@clubdecamposojuela.com\nClapphouse
URL:https://www.clubdecamposojuela.com/calendario/liga-infantil-del-norte-2024-sojuela-3/
LOCATION:Club Campo Sojuela\, C. Solcampo\, 9\,\, Sojuela\, La Rioja\, 26376\, España
CATEGORIES:Abierto
ATTACH;FMTTYPE=image/jpeg:https://www.clubdecamposojuela.com/wp-content/uploads/2024/01/Liga-Infantil-Norte-2024-Junio.jpg
ORGANIZER;CN="Club Campo Sojuela":MAILTO:caddiemaster@clubdecamposojuela.com
END:VEVENT
BEGIN:VEVENT
DTSTART;TZID=Europe/Madrid:20240616T080000
DTEND;TZID=Europe/Madrid:20240616T170000
DTSTAMP:20260425T122848
CREATED:20240115T150609Z
LAST-MODIFIED:20240115T150609Z
UID:3786-1718524800-1718557200@www.clubdecamposojuela.com
SUMMARY:Liga Anual Club de Campo Sojuela
DESCRIPTION:Liga Anual Club de Campo Sojuela
URL:https://www.clubdecamposojuela.com/calendario/liga-anual-club-de-campo-sojuela-3/
LOCATION:Club Campo Sojuela\, C. Solcampo\, 9\,\, Sojuela\, La Rioja\, 26376\, España
CATEGORIES:Abierto
ORGANIZER;CN="Club Campo Sojuela":MAILTO:caddiemaster@clubdecamposojuela.com
END:VEVENT
BEGIN:VEVENT
DTSTART;TZID=Europe/Madrid:20240623T080000
DTEND;TZID=Europe/Madrid:20240623T170000
DTSTAMP:20260425T122848
CREATED:20240115T101815Z
LAST-MODIFIED:20240115T101815Z
UID:3712-1719129600-1719162000@www.clubdecamposojuela.com
SUMMARY:Pro Am equipos mixtos
DESCRIPTION:En el marco de las actividades programadas para el «Año de la Mujer Golfista» en el Club de Campo Sojuela\, con motivo de celebrarse aquí el Campeonato de España Femenino de 2ª\, 3ª y 4ª Categoría\, los días 19 y 20 de octubre\, este mes convocamos a todas las jugadoras de golf a participar en este Pro Am para equipos mixtos. Un torneo Pro Am es un evento en el que participan equipos formados por jugadores profesionales y jugadores amateurs\, de allí su nombre «pro» de profesional  y «am» de amateur. No te lo puedes perder.
URL:https://www.clubdecamposojuela.com/calendario/pro-am-equipos-mixtos-en-club-de-campo-sojuela-golf/
LOCATION:La Rioja
CATEGORIES:Abierto
ORGANIZER;CN="Club Campo Sojuela":MAILTO:caddiemaster@clubdecamposojuela.com
END:VEVENT
END:VCALENDAR