BEGIN:VCALENDAR
VERSION:2.0
PRODID:-//Club de Campo Sojuela - Campo de Golf - - ECPv6.15.20//NONSGML v1.0//EN
CALSCALE:GREGORIAN
METHOD:PUBLISH
X-ORIGINAL-URL:https://www.clubdecamposojuela.com
X-WR-CALDESC:Eventos para Club de Campo Sojuela - Campo de Golf -
REFRESH-INTERVAL;VALUE=DURATION:PT1H
X-Robots-Tag:noindex
X-PUBLISHED-TTL:PT1H
BEGIN:VTIMEZONE
TZID:Europe/Madrid
BEGIN:DAYLIGHT
TZOFFSETFROM:+0100
TZOFFSETTO:+0200
TZNAME:CEST
DTSTART:20230326T010000
END:DAYLIGHT
BEGIN:STANDARD
TZOFFSETFROM:+0200
TZOFFSETTO:+0100
TZNAME:CET
DTSTART:20231029T010000
END:STANDARD
BEGIN:DAYLIGHT
TZOFFSETFROM:+0100
TZOFFSETTO:+0200
TZNAME:CEST
DTSTART:20240331T010000
END:DAYLIGHT
BEGIN:STANDARD
TZOFFSETFROM:+0200
TZOFFSETTO:+0100
TZNAME:CET
DTSTART:20241027T010000
END:STANDARD
BEGIN:DAYLIGHT
TZOFFSETFROM:+0100
TZOFFSETTO:+0200
TZNAME:CEST
DTSTART:20250330T010000
END:DAYLIGHT
BEGIN:STANDARD
TZOFFSETFROM:+0200
TZOFFSETTO:+0100
TZNAME:CET
DTSTART:20251026T010000
END:STANDARD
END:VTIMEZONE
BEGIN:VEVENT
DTSTART;TZID=Europe/Madrid:20240414T090000
DTEND;TZID=Europe/Madrid:20240414T170000
DTSTAMP:20260425T171052
CREATED:20240115T121656Z
LAST-MODIFIED:20240412T122605Z
UID:3732-1713085200-1713114000@www.clubdecamposojuela.com
SUMMARY:Torneo Restaurante Abantos y Escuela Javier Gallegos. Liga Anual Club de Campo Sojuela
DESCRIPTION:La Liga 18º Aniversario del Club de Campo Sojuela Deltacinco – John Deere\, comienza el 14 de febrero con el Torneo Restaurante Abantos y Escuela de Golf Javier Gallegos\, modalidad Stableford Individual\, categoría única. \n\nSalidas a tiro 09.00 h.\nPicnic a mitad de recorrido y paella al finalizar.\nTrofeo para los 3 primeros clasificados.\nBola más cercana indistinta.\nDriver más largo masculino y femenino.\nEntrega de premios.\n\nPrecios: Socios 25€ · Correspondencia 40€ · General 50€ \nInscripciones: 941446710 · deportivo@clubdecamposojuela.com · clapphouse \nPREMIOS A ENTREGARSE EN LA GRAN FINAL: 1º clasificado del ranking: 1 cuota anual individual Club de Campo Sojuela · 2º clasificado del ranking: 250€ para gasto en el pro shop del Club de Campo Sojuela · 3º clasificado del ranking: 100€ para gasto en el pro shop del Club de Campo Sojuela. \n 
URL:https://www.clubdecamposojuela.com/calendario/torneo-restaurante-abantos-y-escuela-javier-gallegos-liga-anual-club-de-campo-sojuela/
LOCATION:Club Campo Sojuela\, C. Solcampo\, 9\,\, Sojuela\, La Rioja\, 26376\, España
CATEGORIES:Abierto
ATTACH;FMTTYPE=image/jpeg:https://www.clubdecamposojuela.com/wp-content/uploads/2024/01/Liga-2024-Abantos-y-Escuela.jpg
ORGANIZER;CN="Club Campo Sojuela":MAILTO:caddiemaster@clubdecamposojuela.com
END:VEVENT
END:VCALENDAR