BEGIN:VCALENDAR
VERSION:2.0
PRODID:-//Club de Campo Sojuela - Campo de Golf - - ECPv6.15.20//NONSGML v1.0//EN
CALSCALE:GREGORIAN
METHOD:PUBLISH
X-ORIGINAL-URL:https://www.clubdecamposojuela.com
X-WR-CALDESC:Eventos para Club de Campo Sojuela - Campo de Golf -
REFRESH-INTERVAL;VALUE=DURATION:PT1H
X-Robots-Tag:noindex
X-PUBLISHED-TTL:PT1H
BEGIN:VTIMEZONE
TZID:Europe/Madrid
BEGIN:DAYLIGHT
TZOFFSETFROM:+0100
TZOFFSETTO:+0200
TZNAME:CEST
DTSTART:20230326T010000
END:DAYLIGHT
BEGIN:STANDARD
TZOFFSETFROM:+0200
TZOFFSETTO:+0100
TZNAME:CET
DTSTART:20231029T010000
END:STANDARD
BEGIN:DAYLIGHT
TZOFFSETFROM:+0100
TZOFFSETTO:+0200
TZNAME:CEST
DTSTART:20240331T010000
END:DAYLIGHT
BEGIN:STANDARD
TZOFFSETFROM:+0200
TZOFFSETTO:+0100
TZNAME:CET
DTSTART:20241027T010000
END:STANDARD
BEGIN:DAYLIGHT
TZOFFSETFROM:+0100
TZOFFSETTO:+0200
TZNAME:CEST
DTSTART:20250330T010000
END:DAYLIGHT
BEGIN:STANDARD
TZOFFSETFROM:+0200
TZOFFSETTO:+0100
TZNAME:CET
DTSTART:20251026T010000
END:STANDARD
END:VTIMEZONE
BEGIN:VEVENT
DTSTART;TZID=Europe/Madrid:20240720T080000
DTEND;TZID=Europe/Madrid:20240720T170000
DTSTAMP:20260425T123503
CREATED:20240115T102728Z
LAST-MODIFIED:20240115T102921Z
UID:3716-1721462400-1721494800@www.clubdecamposojuela.com
SUMMARY:Torneo Femenino Individual 18 hoyos
DESCRIPTION:En el marco de las actividades programadas para el «Año de la Mujer Golfista» en el Club de Campo Sojuela\, con motivo de celebrarse aquí el Campeonato de España Femenino de 2ª\, 3ª y 4ª Categoría\, los días 19 y 20 de octubre\, este mes convocamos a todas las jugadoras de golf a participar en este Torneo Femenino Individual de 18 hoyos\, modalidad Stableford.
URL:https://www.clubdecamposojuela.com/calendario/torneo-femenino-individual-18-hoyos/
LOCATION:La Rioja
CATEGORIES:Abierto
ORGANIZER;CN="Club Campo Sojuela":MAILTO:caddiemaster@clubdecamposojuela.com
END:VEVENT
BEGIN:VEVENT
DTSTART;TZID=Europe/Madrid:20240720T080000
DTEND;TZID=Europe/Madrid:20240721T170000
DTSTAMP:20260425T123503
CREATED:20240116T090426Z
LAST-MODIFIED:20240116T090937Z
UID:3793-1721462400-1721581200@www.clubdecamposojuela.com
SUMMARY:Campeonato de La Rioja Sub 21 de 5ª categoría
DESCRIPTION:Campeonato de La Rioja Sub 21 de 5ª categoría
URL:https://www.clubdecamposojuela.com/calendario/campeonato-de-la-rioja-sub-21-de-5a-categoria/
LOCATION:Club Campo Sojuela\, C. Solcampo\, 9\,\, Sojuela\, La Rioja\, 26376\, España
CATEGORIES:Federativo
ORGANIZER;CN="Federaci%C3%B3n Riojana de Golf":MAILTO:oficina@frgolf.es
END:VEVENT
END:VCALENDAR