BEGIN:VCALENDAR
VERSION:2.0
PRODID:-//Club de Campo Sojuela - Campo de Golf - - ECPv6.15.20//NONSGML v1.0//EN
CALSCALE:GREGORIAN
METHOD:PUBLISH
X-WR-CALNAME:Club de Campo Sojuela - Campo de Golf -
X-ORIGINAL-URL:https://www.clubdecamposojuela.com
X-WR-CALDESC:Eventos para Club de Campo Sojuela - Campo de Golf -
REFRESH-INTERVAL;VALUE=DURATION:PT1H
X-Robots-Tag:noindex
X-PUBLISHED-TTL:PT1H
BEGIN:VTIMEZONE
TZID:Europe/Madrid
BEGIN:DAYLIGHT
TZOFFSETFROM:+0100
TZOFFSETTO:+0200
TZNAME:CEST
DTSTART:20230326T010000
END:DAYLIGHT
BEGIN:STANDARD
TZOFFSETFROM:+0200
TZOFFSETTO:+0100
TZNAME:CET
DTSTART:20231029T010000
END:STANDARD
BEGIN:DAYLIGHT
TZOFFSETFROM:+0100
TZOFFSETTO:+0200
TZNAME:CEST
DTSTART:20240331T010000
END:DAYLIGHT
BEGIN:STANDARD
TZOFFSETFROM:+0200
TZOFFSETTO:+0100
TZNAME:CET
DTSTART:20241027T010000
END:STANDARD
BEGIN:DAYLIGHT
TZOFFSETFROM:+0100
TZOFFSETTO:+0200
TZNAME:CEST
DTSTART:20250330T010000
END:DAYLIGHT
BEGIN:STANDARD
TZOFFSETFROM:+0200
TZOFFSETTO:+0100
TZNAME:CET
DTSTART:20251026T010000
END:STANDARD
END:VTIMEZONE
BEGIN:VEVENT
DTSTART;TZID=Europe/Madrid:20240324T113000
DTEND;TZID=Europe/Madrid:20240324T143000
DTSTAMP:20260425T184138
CREATED:20240115T093104Z
LAST-MODIFIED:20240318T083819Z
UID:3703-1711279800-1711290600@www.clubdecamposojuela.com
SUMMARY:Gymkana Femenina 12 Hoyos
DESCRIPTION:En el marco de las actividades programadas para el «Año de la Mujer Golfista» en el Club de Campo Sojuela\, con motivo de celebrarse aquí el Campeonato de España Femenino de 2ª\, 3ª y 4ª Categoría\, los días 19 y 20 de octubre\, este mes convocamos a todas las jugadoras de golf a participar en una divertida Gymkana de 12 hoyos\, patrocinada por Bodegas Valenciso. Las salidas\, a tiro\, serán a las 11.30 h. Se premiará a las dos primeras clasificadas y al primer clasificado masculino. Al finalizar\, se hará la entrega de premios acompañada de un picoteo. \nPrecios:\n– Socias: Su green fee diario + 4€\n– Jugadoras adheridas al Programa #VamosChicas: 15€\n– Resto: 25€ \nInscríbete llamando al 941 446 710\, escribiendo a deportivo@clubdecamposojuela.com o a través de Clapphouse.
URL:https://www.clubdecamposojuela.com/calendario/gymkana-femenina-12-hoyos/
LOCATION:Club Campo Sojuela\, C. Solcampo\, 9\,\, Sojuela\, La Rioja\, 26376\, España
CATEGORIES:Abierto
ATTACH;FMTTYPE=image/jpeg:https://www.clubdecamposojuela.com/wp-content/uploads/2024/01/post_gymkana_femenina_23_marzo_2024-1.jpg
ORGANIZER;CN="Club Campo Sojuela":MAILTO:caddiemaster@clubdecamposojuela.com
END:VEVENT
END:VCALENDAR