BEGIN:VCALENDAR
VERSION:2.0
PRODID:-//Club de Campo Sojuela - Campo de Golf - - ECPv6.15.20//NONSGML v1.0//EN
CALSCALE:GREGORIAN
METHOD:PUBLISH
X-WR-CALNAME:Club de Campo Sojuela - Campo de Golf -
X-ORIGINAL-URL:https://www.clubdecamposojuela.com
X-WR-CALDESC:Eventos para Club de Campo Sojuela - Campo de Golf -
REFRESH-INTERVAL;VALUE=DURATION:PT1H
X-Robots-Tag:noindex
X-PUBLISHED-TTL:PT1H
BEGIN:VTIMEZONE
TZID:Europe/Madrid
BEGIN:DAYLIGHT
TZOFFSETFROM:+0100
TZOFFSETTO:+0200
TZNAME:CEST
DTSTART:20230326T010000
END:DAYLIGHT
BEGIN:STANDARD
TZOFFSETFROM:+0200
TZOFFSETTO:+0100
TZNAME:CET
DTSTART:20231029T010000
END:STANDARD
BEGIN:DAYLIGHT
TZOFFSETFROM:+0100
TZOFFSETTO:+0200
TZNAME:CEST
DTSTART:20240331T010000
END:DAYLIGHT
BEGIN:STANDARD
TZOFFSETFROM:+0200
TZOFFSETTO:+0100
TZNAME:CET
DTSTART:20241027T010000
END:STANDARD
BEGIN:DAYLIGHT
TZOFFSETFROM:+0100
TZOFFSETTO:+0200
TZNAME:CEST
DTSTART:20250330T010000
END:DAYLIGHT
BEGIN:STANDARD
TZOFFSETFROM:+0200
TZOFFSETTO:+0100
TZNAME:CET
DTSTART:20251026T010000
END:STANDARD
END:VTIMEZONE
BEGIN:VEVENT
DTSTART;TZID=Europe/Madrid:20240505T080000
DTEND;TZID=Europe/Madrid:20240505T170000
DTSTAMP:20260425T152913
CREATED:20240417T140355Z
LAST-MODIFIED:20240417T140355Z
UID:3997-1714896000-1714928400@www.clubdecamposojuela.com
SUMMARY:Primera Prueba Liga Femenina RFG
DESCRIPTION:PARTICIPANTES \nTodas aquellas jugadoras amateur\, indistintamente de su edad\, con hándicap en activo y licencia en vigor expedida por la Real Federación Española de Golf\, con límite de 80 jugadoras (20 equipos)\, admitidas por orden de inscripción.\nPor motivos de la competición\, el número de equipos ha de ser siempre par\, o lo que es lo mismo\, el número de jugadoras participantes ha de ser siempre múltiplo de 8. \nINSCRIPCIONES Y DERECHOS DE INSCRIPCIÓN\nCon fecha límite del 24 de abril a las 23:59 horas\, cada jugadora deberá enviar un e-mail a oficina@frgolf.es\, indicando en el asunto del mismo “Inscripción Liga Femenina FRG 2024” y adjuntando nombre\, apellidos\, número de licencia\, teléfono de contacto\, dirección de\n05/04/2024 Circular FRG nº 14 / 2024 2\ncorreo electrónico de contacto y resguardo de la transferencia / ingreso por la cantidad\ncorrespondiente a los derechos de inscripción.\nLa inscripción quedará formalizada cuando las jugadoras abonen la cantidad estipulada\na continuación\, siempre antes de la fecha límite de inscripción\, en el número de cuenta ES37\n3008 0142 9036 9745 5123\, indicando en el objeto del ingreso o transferencia “Inscripción\nnombre y apellidos Liga Femenina FRG 2024”:\n• Licencias RL: 60 € / jugadora.\n• Licencias no RL: 75 € / jugadora.\nEstas cantidades corresponden a los derechos de inscripción de las tres pruebas y una\ninvitación a la presentación de la liga. Dicha presentación se realizará el 26 de abril a las\n18:00 horas en el Palacio Herrerías (C/ Herrerías 17\, Logroño)\, donde se hará entrega de un\nobsequio de bienvenida a cada jugadora participante. \n1ª Prueba (5 de mayo\, Club de Campo Sojuela)\nLas componentes de cada equipo jugarán bajo la modalidad “Scramble Stableford”. La formación de las parejas para esta prueba lo enviarán las capitanas de cada equipo a oficina@frgolf.es\, con fecha límite del 3 de mayo a las 12:00 horas.\nEl hándicap de la prueba para cada pareja será el 30% de la suma de los hándicaps de juego de cada jugadora. No obstante\, la pareja no podrá jugar con un hándicap de juego superior al hándicap de juego más bajo de alguna de las jugadoras que forman la pareja.\nCada partida englobará a la pareja con suma de hándicap más baja de un equipo con la pareja con suma más alta de hándicap de otro equipo.\nPara obtener la puntuación final\, y por tanto la clasificación\, de cada equipo se sumará las puntuaciones stableford de cada pareja.\nDesempate: en caso de empate a puntos de varios equipos\, se desempatará en favor del equipo que tenga la pareja con mayor puntuación de los empatados. Si persiste el empate\, se repartirá los puntos de clasificación de manera igualitaria entre los equipos empatados conforme a los puestos que ocupen en la clasificación de la prueba. \nCir1424-Liga-Femenina-FRG-2024-1
URL:https://www.clubdecamposojuela.com/calendario/primera-prueba-liga-femenina-rfg/
LOCATION:Club Campo Sojuela\, C. Solcampo\, 9\,\, Sojuela\, La Rioja\, 26376\, España
CATEGORIES:Federativo
ATTACH;FMTTYPE=image/jpeg:https://www.clubdecamposojuela.com/wp-content/uploads/2024/04/Primera-Prueba-Liga-Femenina-FRG.jpg
ORGANIZER;CN="Federaci%C3%B3n Riojana de Golf":MAILTO:oficina@frgolf.es
END:VEVENT
END:VCALENDAR