BEGIN:VCALENDAR
VERSION:2.0
PRODID:-//Club de Campo Sojuela - Campo de Golf - - ECPv6.15.20//NONSGML v1.0//EN
CALSCALE:GREGORIAN
METHOD:PUBLISH
X-WR-CALNAME:Club de Campo Sojuela - Campo de Golf -
X-ORIGINAL-URL:https://www.clubdecamposojuela.com
X-WR-CALDESC:Eventos para Club de Campo Sojuela - Campo de Golf -
REFRESH-INTERVAL;VALUE=DURATION:PT1H
X-Robots-Tag:noindex
X-PUBLISHED-TTL:PT1H
BEGIN:VTIMEZONE
TZID:Europe/Madrid
BEGIN:DAYLIGHT
TZOFFSETFROM:+0100
TZOFFSETTO:+0200
TZNAME:CEST
DTSTART:20230326T010000
END:DAYLIGHT
BEGIN:STANDARD
TZOFFSETFROM:+0200
TZOFFSETTO:+0100
TZNAME:CET
DTSTART:20231029T010000
END:STANDARD
BEGIN:DAYLIGHT
TZOFFSETFROM:+0100
TZOFFSETTO:+0200
TZNAME:CEST
DTSTART:20240331T010000
END:DAYLIGHT
BEGIN:STANDARD
TZOFFSETFROM:+0200
TZOFFSETTO:+0100
TZNAME:CET
DTSTART:20241027T010000
END:STANDARD
BEGIN:DAYLIGHT
TZOFFSETFROM:+0100
TZOFFSETTO:+0200
TZNAME:CEST
DTSTART:20250330T010000
END:DAYLIGHT
BEGIN:STANDARD
TZOFFSETFROM:+0200
TZOFFSETTO:+0100
TZNAME:CET
DTSTART:20251026T010000
END:STANDARD
END:VTIMEZONE
BEGIN:VEVENT
DTSTART;TZID=Europe/Madrid:20240714T080000
DTEND;TZID=Europe/Madrid:20240714T170000
DTSTAMP:20260425T175304
CREATED:20240115T142041Z
LAST-MODIFIED:20240115T142041Z
UID:3757-1720944000-1720976400@www.clubdecamposojuela.com
SUMMARY:Liga Infantil del Norte 2024 Sojuela
DESCRIPTION:LIGA INFANTIL DEL NORTE 2024 SOJUELA\nDomingo 14 de julio. \n2 categorías: 9 hoyos de rojas y 18 hoyos de amarillas. \nPREMIOS:\n– JUEGO DE HIERROS CON FITTING PERSONALIZADO para el ganador Hándicap y el ganador Medal 18 hoyos.\n– 1 AÑO GRATIS EN LA ESCUELA DE COMPETICIÓN DEL CLUB DE CAMPO SOJUELA para el ganador Hándicap y el ganador Medal 9 hoyos.\n– 200€ EN UN VALE DE TIENDA PARA MATERIAL DEPORTIVO para los 2º clasificados en 18 hoyos y 9 hoyos.\n– 100€ EN UN VALE DE TIENDA PARA MATERIAL DEPORTIVO para los 3º clasificados en 18 hoyos y 9 hoyos.\n– 5 FICHAS VIA CLAPPHOUSE para los jugadores con menos puntos en cada prueba. \n· La final del Sojuela Open de noviembre valdrá doble puntuación · El 1º clasificado en la general scratch de 18 hoyos recibirá invitación a los WAGR de abril y julio · Los jugadores que compitan en\, al menos\, 5 pruebas conseguirán precios especiales para jugar en el Club de Campo Sojuela.\nPrecios: 6€ para 9 hoyos rojas y 12€ para 18 hoyos amarillas. \nINSCRIPCIONES:\n941 446 710\ndeportivo@clubdecamposojuela.com\nClapphouse
URL:https://www.clubdecamposojuela.com/calendario/liga-infantil-del-norte-2024-sojuela-4/
LOCATION:Club Campo Sojuela\, C. Solcampo\, 9\,\, Sojuela\, La Rioja\, 26376\, España
CATEGORIES:Abierto
ATTACH;FMTTYPE=image/jpeg:https://www.clubdecamposojuela.com/wp-content/uploads/2024/01/Liga-Infantil-Norte-2024-Julio.jpg
ORGANIZER;CN="Club Campo Sojuela":MAILTO:caddiemaster@clubdecamposojuela.com
END:VEVENT
END:VCALENDAR