BEGIN:VCALENDAR
VERSION:2.0
PRODID:-//Club de Campo Sojuela - Campo de Golf - - ECPv6.15.20//NONSGML v1.0//EN
CALSCALE:GREGORIAN
METHOD:PUBLISH
X-ORIGINAL-URL:https://www.clubdecamposojuela.com
X-WR-CALDESC:Eventos para Club de Campo Sojuela - Campo de Golf -
REFRESH-INTERVAL;VALUE=DURATION:PT1H
X-Robots-Tag:noindex
X-PUBLISHED-TTL:PT1H
BEGIN:VTIMEZONE
TZID:Europe/Madrid
BEGIN:DAYLIGHT
TZOFFSETFROM:+0100
TZOFFSETTO:+0200
TZNAME:CEST
DTSTART:20230326T010000
END:DAYLIGHT
BEGIN:STANDARD
TZOFFSETFROM:+0200
TZOFFSETTO:+0100
TZNAME:CET
DTSTART:20231029T010000
END:STANDARD
BEGIN:DAYLIGHT
TZOFFSETFROM:+0100
TZOFFSETTO:+0200
TZNAME:CEST
DTSTART:20240331T010000
END:DAYLIGHT
BEGIN:STANDARD
TZOFFSETFROM:+0200
TZOFFSETTO:+0100
TZNAME:CET
DTSTART:20241027T010000
END:STANDARD
BEGIN:DAYLIGHT
TZOFFSETFROM:+0100
TZOFFSETTO:+0200
TZNAME:CEST
DTSTART:20250330T010000
END:DAYLIGHT
BEGIN:STANDARD
TZOFFSETFROM:+0200
TZOFFSETTO:+0100
TZNAME:CET
DTSTART:20251026T010000
END:STANDARD
END:VTIMEZONE
BEGIN:VEVENT
DTSTART;TZID=Europe/Madrid:20240825T080000
DTEND;TZID=Europe/Madrid:20240825T170000
DTSTAMP:20260425T162241
CREATED:20240115T104117Z
LAST-MODIFIED:20240115T104117Z
UID:3718-1724572800-1724605200@www.clubdecamposojuela.com
SUMMARY:Clinic Femenino Flightscope y torneo chipping green
DESCRIPTION:En el marco de las actividades programadas para el «Año de la Mujer Golfista» en el Club de Campo Sojuela\, con motivo de celebrarse aquí el Campeonato de España Femenino de 2ª\, 3ª y 4ª Categoría\, los días 19 y 20 de octubre\, este mes convocamos a todas las jugadoras de golf a participar en este Clinic Femenino Flightscope y torneo chipping green. \nUn clinic de golf es una jornada de entrenamiento especializada que tiene como objetivo mejorar las habilidades y técnicas en el juego. Por otro lado\, el Flightscope es un dispositivo de seguimiento 3D que realiza un análisis detallado del swing de golf y un desglose completo del golpe\, proporcionando proyecciones de vuelo en tiempo real. Gracias a este dispositivo\, este clinic te ofrecerá\, sin duda\, una experiencia que enriquecerá tu manera de jugar al golf. Y para practicar lo aprendido\, nada mejor que un torneo chipping green. No te lo puedes perder.
URL:https://www.clubdecamposojuela.com/calendario/clinic-femenino-flightscope-y-torneo-chipping-green-en-club-de-campo-sojuela/
LOCATION:La Rioja
CATEGORIES:Abierto
ORGANIZER;CN="Club Campo Sojuela":MAILTO:caddiemaster@clubdecamposojuela.com
END:VEVENT
END:VCALENDAR